BEGIN:VCALENDAR
VERSION:2.0
PRODID:icalendar-ruby
CALSCALE:GREGORIAN
METHOD:PUBLISH
BEGIN:VEVENT
DTSTAMP:20260419T174940Z
UID:287-7231547@stmarkqualicum.ca
DTSTART:20260917T223000Z
DTEND:20260918T000000Z
CLASS:PUBLIC
CREATED:20260419T072415
DESCRIPTION:You are invited to a series of conversations and presentations 
 on reconciliation with our Indigenous neighbours and friends\, using the b
 ook 52 Ways to Reconcile \nby David A. Robertson.\nYou do not need to comm
 it to the entire series. Just come when you can.\n HERE ARE THE UPCOMING T
 OPICS\nApril   9 — Learn about how to support survivors and their famil
 ies\nApril 16 — Create and take our own Action\nApril 23 — Lally will 
 lead us through a chapter of Braiding Sweetgrass\nApril 30 — Learn about
  indigenous approaches to land stewardship\n \nMay  7 — Take part in a
  Smudge and learn about Sacred Medicines\n 
LAST-MODIFIED:20260419T072415
LOCATION:Church Hall
SUMMARY:52 Ways to Reconcile
URL;VALUE=URI:https://www.stmarkqualicum.ca/events/52-ways-to-reconcile/202
 6-09-17
ATTACH;FILENAME=52 Ways to Reconcile for Web (Short).jpg;FMTTYPE=image/jpeg
 :https://dq5pwpg1q8ru0.cloudfront.net/2025/09/26/03/09/40/85b7bde5-df11-42
 41-b302-a4469896e963/52%20Ways%20to%20Reconcile%20for%20Web%20(Short).jpg
END:VEVENT
END:VCALENDAR
