BEGIN:VCALENDAR
VERSION:2.0
PRODID:icalendar-ruby
CALSCALE:GREGORIAN
METHOD:PUBLISH
BEGIN:VEVENT
DTSTAMP:20260425T125218Z
UID:191-7346532@stmarkqualicum.ca
DTSTART:20260920T170000Z
DTEND:20260920T180000Z
CLASS:PUBLIC
CREATED:20260425T033008
DESCRIPTION:This Sunday we continue the joy of Easter\, and the new life we
  have through Jesus\, with a Choral Eucharist celebrated by the Reverend D
 eborah Rivet.\nAlso\, this will be Deborah's last Sunday with us and we wi
 ll be sad to say good-bye. But we wish her well.\nJoin us for this special
  day!\n \nPlease know that all are welcome\nService bulletins are availab
 le Thursday afternoon and can be downloaded using the link below. \n 
LAST-MODIFIED:20260425T033008
LOCATION:St Mark's Church
SUMMARY:Choral Eucharist
URL;VALUE=URI:https://www.stmarkqualicum.ca/events/choral-eucharist/2026-09
 -20
ATTACH;FILENAME=IMG_1220.jpeg;FMTTYPE=image/jpeg:https://dq5pwpg1q8ru0.clou
 dfront.net/2026/04/21/14/47/37/06f10ff0-b4ce-4e0a-b8d8-f9fb96710da3/IMG_12
 20.jpeg
ATTACH;FILENAME=2026-04-26 Easter 4.docx;FMTTYPE=application/vnd.openxmlfor
 mats-officedocument.wordprocessingml.document:https://dq5pwpg1q8ru0.cloudf
 ront.net/2026/04/24/00/59/41/50422521-b77c-44b1-8fd3-1922ab19e32d/2026-04-
 26%20Easter%204.docx
ATTACH;FILENAME=2026-04-26 Easter 4.pdf;FMTTYPE=application/pdf:https://dq5
 pwpg1q8ru0.cloudfront.net/2026/04/24/00/59/42/d55d669e-c87d-4a8f-8351-f91c
 2db494b3/2026-04-26%20Easter%204.pdf
END:VEVENT
END:VCALENDAR
