BEGIN:VCALENDAR
VERSION:2.0
PRODID:icalendar-ruby
CALSCALE:GREGORIAN
METHOD:PUBLISH
BEGIN:VEVENT
DTSTAMP:20260426T004538Z
UID:131-7362564@stmarkqualicum.ca
DTSTART:20220330T183000Z
DTEND:20220330T190000Z
CLASS:PUBLIC
CREATED:20260425T165725
DESCRIPTION:
LAST-MODIFIED:20260425T165725
LOCATION:SERVICES POSTPONED 
SUMMARY:Holy Communion
URL;VALUE=URI:https://www.stmarkqualicum.ca/events/holy-communion--131/2022
 -03-30
END:VEVENT
END:VCALENDAR
