BEGIN:VCALENDAR
VERSION:2.0
PRODID:icalendar-ruby
CALSCALE:GREGORIAN
METHOD:PUBLISH
BEGIN:VEVENT
DTSTAMP:20260420T124729Z
UID:288-7247967@stmarkqualicum.ca
DTSTART:20261007T170000Z
DTEND:20261007T180000Z
CLASS:PUBLIC
CREATED:20260420T032830
DESCRIPTION:Join us weekly for fellowship and discussion on the upcoming re
 adings from the Lectionary. \nLITURGICAL YEAR A\nLectionary Readings for\
 nTHE SECOND SUNDAY OF EASTER\n \nSunday\, April 12th\n\nACTS 2:14A\, 22-3
 2\n1 PETER 1:3-9\nJOHN 20:19-31\n\n \nAnglican Church of Canada Lectionar
 y\n 
LAST-MODIFIED:20260420T032830
LOCATION:Church Hall
SUMMARY:Sermon Circle
URL;VALUE=URI:https://www.stmarkqualicum.ca/events/sermon-circle/2026-10-07
ATTACH;FILENAME=Sermon Circle Logo.png;FMTTYPE=image/png:https://dq5pwpg1q8
 ru0.cloudfront.net/2025/10/31/18/49/45/9cf84415-ef4a-45e8-ac88-5dc19334899
 a/Sermon%20Circle%20Logo.png
ATTACH;FILENAME=Image 6.jpeg;FMTTYPE=image/jpeg:https://dq5pwpg1q8ru0.cloud
 front.net/2026/01/09/16/10/40/0076b795-8beb-479f-8dba-a1311513af6d/Image%2
 06.jpeg
ATTACH;FILENAME=Sermon Circle for Web.jpg;FMTTYPE=image/jpeg:https://dq5pwp
 g1q8ru0.cloudfront.net/2026/02/12/19/40/09/5932e319-38fe-4b0d-8f41-4bca814
 75a01/Sermon%20Circle%20for%20Web.jpg
END:VEVENT
END:VCALENDAR
